BEGIN:VCALENDAR
VERSION:2.0
PRODID:Quicksite
NAME:Calendrier
X-WR-CALNAME:Calendrier
REFRESH-INTERVAL;VALUE=DURATION:PT240M
X-PUBLISHED-TTL:PT240M
BEGIN:VEVENT
UID:69ea2ddc1e39e
SUMMARY:3e édition du PrinTannay
DESCRIPTION:L'Association TannEco prépare la 3e édition du PrinTannay\, f
 ête de la nature qui aura lieu dimanche 26 avril 2026 de 10h à 18h\, à 
 la salle communale de Tannay.
LOCATION:Salle communale de Tannay
DTSTART:20260426T080000Z
DTEND:20260426T090000Z
DTSTAMP:20260309T103809Z
END:VEVENT
END:VCALENDAR